BEGIN:VCALENDAR
VERSION:2.0
PRODID:-//Millcreek Township - ECPv6.15.20//NONSGML v1.0//EN
CALSCALE:GREGORIAN
METHOD:PUBLISH
X-WR-CALNAME:Millcreek Township
X-ORIGINAL-URL:https://millcreektwp.org
X-WR-CALDESC:Events for Millcreek Township
REFRESH-INTERVAL;VALUE=DURATION:PT1H
X-Robots-Tag:noindex
X-PUBLISHED-TTL:PT1H
BEGIN:VTIMEZONE
TZID:America/New_York
BEGIN:DAYLIGHT
TZOFFSETFROM:-0500
TZOFFSETTO:-0400
TZNAME:EDT
DTSTART:20220313T070000
END:DAYLIGHT
BEGIN:STANDARD
TZOFFSETFROM:-0400
TZOFFSETTO:-0500
TZNAME:EST
DTSTART:20221106T060000
END:STANDARD
BEGIN:DAYLIGHT
TZOFFSETFROM:-0500
TZOFFSETTO:-0400
TZNAME:EDT
DTSTART:20230312T070000
END:DAYLIGHT
BEGIN:STANDARD
TZOFFSETFROM:-0400
TZOFFSETTO:-0500
TZNAME:EST
DTSTART:20231105T060000
END:STANDARD
BEGIN:DAYLIGHT
TZOFFSETFROM:-0500
TZOFFSETTO:-0400
TZNAME:EDT
DTSTART:20240310T070000
END:DAYLIGHT
BEGIN:STANDARD
TZOFFSETFROM:-0400
TZOFFSETTO:-0500
TZNAME:EST
DTSTART:20241103T060000
END:STANDARD
BEGIN:DAYLIGHT
TZOFFSETFROM:-0500
TZOFFSETTO:-0400
TZNAME:EDT
DTSTART:20250309T070000
END:DAYLIGHT
BEGIN:STANDARD
TZOFFSETFROM:-0400
TZOFFSETTO:-0500
TZNAME:EST
DTSTART:20251102T060000
END:STANDARD
END:VTIMEZONE
BEGIN:VEVENT
DTSTART;TZID=America/New_York:20240825T180000
DTEND;TZID=America/New_York:20240825T200000
DTSTAMP:20260421T175233
CREATED:20240712T123844Z
LAST-MODIFIED:20240712T123844Z
UID:10000431-1724608800-1724616000@millcreektwp.org
SUMMARY:Music in the Park 6PM
DESCRIPTION:Jeff Krick Jr. \nElvis Impersonator! \nFood and Drink available at 5PM \nIn case of rain\, event will be held at Living Stones Church \n229 E Main St.
URL:https://millcreektwp.org/event/music-in-the-park-6pm/
LOCATION:Memorial Park\, 201 Memorial Blvd.\, Newmanstown\, 17073\, United States
END:VEVENT
BEGIN:VEVENT
DTSTART;TZID=America/New_York:20240818T180000
DTEND;TZID=America/New_York:20240818T200000
DTSTAMP:20260421T175233
CREATED:20240712T123623Z
LAST-MODIFIED:20240712T123623Z
UID:10000430-1724004000-1724011200@millcreektwp.org
SUMMARY:Music in Memorial Park 6PM
DESCRIPTION:Rustic Rewind \nFood and Drink available 5PM \nIn case of rain\, event to be held at Living Stones Church \n229 E Main St.
URL:https://millcreektwp.org/event/music-in-memorial-park-6pm-2/
LOCATION:Memorial Park\, 201 Memorial Blvd.\, Newmanstown\, 17073\, United States
END:VEVENT
BEGIN:VEVENT
DTSTART;TZID=America/New_York:20240811T180000
DTEND;TZID=America/New_York:20240811T200000
DTSTAMP:20260421T175233
CREATED:20240712T123356Z
LAST-MODIFIED:20240712T123356Z
UID:10000429-1723399200-1723406400@millcreektwp.org
SUMMARY:Music in Memorial Park 6PM
DESCRIPTION:Dean-O \nFood and Drink available at 5PM \nIn case of rain\, event  held at Living Stones Church \n229 E Main St.
URL:https://millcreektwp.org/event/music-in-memorial-park-6pm/
LOCATION:Memorial Park\, 201 Memorial Blvd.\, Newmanstown\, 17073\, United States
END:VEVENT
BEGIN:VEVENT
DTSTART;TZID=America/New_York:20240804T180000
DTEND;TZID=America/New_York:20240804T200000
DTSTAMP:20260421T175233
CREATED:20240712T123058Z
LAST-MODIFIED:20240712T123058Z
UID:10000428-1722794400-1722801600@millcreektwp.org
SUMMARY:Music  in Memorial Park 6 PM
DESCRIPTION:Barry Wenrich \nFood & drink available at 5 PM \nIn case of rain held at Living Stones Church \n229 E Main St.
URL:https://millcreektwp.org/event/music-in-memorial-park-6-pm/
LOCATION:Memorial Park\, 201 Memorial Blvd.\, Newmanstown\, 17073\, United States
END:VEVENT
BEGIN:VEVENT
DTSTART;TZID=America/New_York:20230827T180000
DTEND;TZID=America/New_York:20230827T200000
DTSTAMP:20260421T175233
CREATED:20230724T151537Z
LAST-MODIFIED:20230724T151537Z
UID:10000262-1693159200-1693166400@millcreektwp.org
SUMMARY:MUSIC IN THE PARK
DESCRIPTION:JEFF KRICK JR. \nShow starts 6 PM  Food & drinks on sale 5 PM \nIn case of rain:  Living Stones Church (229 E Main St)
URL:https://millcreektwp.org/event/music-in-the-park-4/
LOCATION:Memorial Park\, 201 Memorial Blvd.\, Newmanstown\, 17073\, United States
END:VEVENT
BEGIN:VEVENT
DTSTART;TZID=America/New_York:20230820T180000
DTEND;TZID=America/New_York:20230820T200000
DTSTAMP:20260421T175233
CREATED:20230724T151350Z
LAST-MODIFIED:20230724T151350Z
UID:10000261-1692554400-1692561600@millcreektwp.org
SUMMARY:MUSIC IN THE PARK
DESCRIPTION:MEN OF NOTE \nShow starts 6 PM  Food & drinks on sale 5 PM \nIn case of rain:  Living Stones Church (229 E Main St)
URL:https://millcreektwp.org/event/music-in-the-park-3/
LOCATION:Memorial Park\, 201 Memorial Blvd.\, Newmanstown\, 17073\, United States
END:VEVENT
BEGIN:VEVENT
DTSTART;TZID=America/New_York:20230813T180000
DTEND;TZID=America/New_York:20230813T200000
DTSTAMP:20260421T175233
CREATED:20230724T150157Z
LAST-MODIFIED:20230724T150955Z
UID:10000259-1691949600-1691956800@millcreektwp.org
SUMMARY:MUSIC IN THE PARK
DESCRIPTION:RICHLAND EXPRESS \nShow begins at 6PM\n201 Memorial Blvd.\, Newmanstown PA \nIn case of rain (Living Stones Church)
URL:https://millcreektwp.org/event/music-in-the-park-2/
LOCATION:Memorial Park\, 201 Memorial Blvd.\, Newmanstown\, 17073\, United States
END:VEVENT
BEGIN:VEVENT
DTSTART;TZID=America/New_York:20230806T080000
DTEND;TZID=America/New_York:20230806T170000
DTSTAMP:20260421T175233
CREATED:20230724T150106Z
LAST-MODIFIED:20230724T151224Z
UID:10000257-1691308800-1691341200@millcreektwp.org
SUMMARY:MUSIC IN THE PARK
DESCRIPTION:BARRY WENRICH\nShow starts 6 PM  Food & drinks on sale 5 PM \nIn case of rain:  Living Stones Church (229 E Main St)
URL:https://millcreektwp.org/event/music-in-the-park/
LOCATION:Memorial Park\, 201 Memorial Blvd.\, Newmanstown\, 17073\, United States
END:VEVENT
END:VCALENDAR